Package: mosaicsExample Version: 1.49.0 Command: /home/biocbuild/bbs-3.23-bioc/R/bin/R CMD check --install=check:mosaicsExample.install-out.txt --library=/home/biocbuild/bbs-3.23-bioc/R/site-library --timings mosaicsExample_1.49.0.tar.gz StartedAt: 2025-11-06 12:40:45 -0500 (Thu, 06 Nov 2025) EndedAt: 2025-11-06 12:41:04 -0500 (Thu, 06 Nov 2025) EllapsedTime: 18.6 seconds RetCode: 0 Status: WARNINGS CheckDir: mosaicsExample.Rcheck Warnings: 1