Package: minfiDataEPIC Version: 1.37.0 Command: /home/biocbuild/bbs-3.23-bioc/R/bin/R CMD check --install=check:minfiDataEPIC.install-out.txt --library=/home/biocbuild/bbs-3.23-bioc/R/site-library --timings minfiDataEPIC_1.37.0.tar.gz StartedAt: 2025-11-06 12:38:44 -0500 (Thu, 06 Nov 2025) EndedAt: 2025-11-06 12:41:48 -0500 (Thu, 06 Nov 2025) EllapsedTime: 184.1 seconds RetCode: 0 Status: WARNINGS CheckDir: minfiDataEPIC.Rcheck Warnings: 1