Package: microRNAome Version: 1.33.0 Maintainer: Matthew N. McCall MaintainerEmail: mccallm at gmail.com git_url: https://git.bioconductor.org/packages/microRNAome git_branch: devel git_last_commit: de18465 git_last_commit_date: 2025-10-29 09:59:22 -0500 (Wed, 29 Oct 2025)