Package: metaMSdata Version: 1.47.0 Command: /home/biocbuild/bbs-3.23-bioc/R/bin/R CMD build --keep-empty-dirs --no-resave-data metaMSdata StartedAt: 2025-11-06 11:29:21 -0500 (Thu, 06 Nov 2025) EndedAt: 2025-11-06 11:34:28 -0500 (Thu, 06 Nov 2025) EllapsedTime: 307.0 seconds RetCode: 0 Status: OK PackageFile: metaMSdata_1.47.0.tar.gz PackageFileSize: 121.9 MiB