Package: metaMSdata Version: 1.47.0 Maintainer: Yann Guitton MaintainerEmail: yann.guitton at gmail.com git_url: https://git.bioconductor.org/packages/metaMSdata git_branch: devel git_last_commit: 8953db0 git_last_commit_date: 2025-10-29 09:54:57 -0500 (Wed, 29 Oct 2025)