Package: mcsurvdata Version: 1.29.0 Maintainer: Adria Caballe Mestres MaintainerEmail: adria.caballe at irbbarcelona.org git_url: https://git.bioconductor.org/packages/mcsurvdata git_branch: devel git_last_commit: 6a39a6d git_last_commit_date: 2025-10-29 10:00:45 -0500 (Wed, 29 Oct 2025)