Package: marinerData Version: 1.11.0 Maintainer: Eric Davis MaintainerEmail: ericscottdavis at outlook.com git_url: https://git.bioconductor.org/packages/marinerData git_branch: devel git_last_commit: 81431b4 git_last_commit_date: 2025-10-29 10:05:33 -0500 (Wed, 29 Oct 2025)