Package: maqcExpression4plex Version: 1.55.0 Maintainer: Benilton Carvalho MaintainerEmail: Benilton.Carvalho at cancer.org.uk git_url: https://git.bioconductor.org/packages/maqcExpression4plex git_branch: devel git_last_commit: 022851d git_last_commit_date: 2025-10-29 09:31:00 -0500 (Wed, 29 Oct 2025)