Package: macrophage Version: 1.27.0 Command: /home/biocbuild/bbs-3.23-bioc/R/bin/R CMD build --keep-empty-dirs --no-resave-data macrophage StartedAt: 2025-11-27 11:27:30 -0500 (Thu, 27 Nov 2025) EndedAt: 2025-11-27 11:28:07 -0500 (Thu, 27 Nov 2025) EllapsedTime: 36.5 seconds RetCode: 0 Status: OK PackageFile: macrophage_1.27.0.tar.gz PackageFileSize: 511.4 MiB