Package: lydata Version: 1.37.0 Command: /home/biocbuild/bbs-3.23-bioc/R/bin/R CMD build --keep-empty-dirs --no-resave-data lydata StartedAt: 2025-11-13 11:27:55 -0500 (Thu, 13 Nov 2025) EndedAt: 2025-11-13 11:30:38 -0500 (Thu, 13 Nov 2025) EllapsedTime: 163.2 seconds RetCode: 0 Status: OK PackageFile: lydata_1.37.0.tar.gz PackageFileSize: 158.9 MiB