Package: leeBamViews Version: 1.47.0 Maintainer: VJ Carey MaintainerEmail: stvjc at channing.harvard.edu git_url: https://git.bioconductor.org/packages/leeBamViews git_branch: devel git_last_commit: 8820778 git_last_commit_date: 2025-10-29 09:31:51 -0500 (Wed, 29 Oct 2025)