Package: kidpack Version: 1.53.0 Maintainer: Wolfgang Huber MaintainerEmail: huber at ebi.ac.uk git_url: https://git.bioconductor.org/packages/kidpack git_branch: devel git_last_commit: 3a850d1 git_last_commit_date: 2025-10-29 09:30:24 -0500 (Wed, 29 Oct 2025)