Package: humanStemCell Version: 0.51.0 Maintainer: R. Gentleman MaintainerEmail: rgentlem at fhcrc.org git_url: https://git.bioconductor.org/packages/humanStemCell git_branch: devel git_last_commit: 0464958 git_last_commit_date: 2025-10-29 09:31:28 -0500 (Wed, 29 Oct 2025)