Package: humanHippocampus2024 Version: 1.3.0 Command: /home/biocbuild/bbs-3.23-bioc/R/bin/R CMD INSTALL humanHippocampus2024 StartedAt: 2025-11-06 10:59:26 -0500 (Thu, 06 Nov 2025) EndedAt: 2025-11-06 10:59:48 -0500 (Thu, 06 Nov 2025) EllapsedTime: 22.2 seconds RetCode: 0 Status: OK