Package: humanHippocampus2024 Version: 1.3.0 Command: /home/biocbuild/bbs-3.23-bioc/R/bin/R CMD build --keep-empty-dirs --no-resave-data humanHippocampus2024 StartedAt: 2025-11-06 11:24:57 -0500 (Thu, 06 Nov 2025) EndedAt: 2025-11-06 11:30:29 -0500 (Thu, 06 Nov 2025) EllapsedTime: 331.6 seconds RetCode: 0 Status: OK PackageFile: humanHippocampus2024_1.3.0.tar.gz PackageFileSize: 1.041 MiB