Package: humanHippocampus2024 Version: 1.3.0 Maintainer: Christine Hou MaintainerEmail: chris2018hou at gmail.com git_url: https://git.bioconductor.org/packages/humanHippocampus2024 git_branch: devel git_last_commit: 25483ec git_last_commit_date: 2025-10-29 10:06:50 -0500 (Wed, 29 Oct 2025)