Package: homosapienDEE2CellScore Version: 1.7.0 Command: /home/biocbuild/bbs-3.23-bioc/R/bin/R CMD INSTALL homosapienDEE2CellScore StartedAt: 2025-11-06 11:00:05 -0500 (Thu, 06 Nov 2025) EndedAt: 2025-11-06 11:00:33 -0500 (Thu, 06 Nov 2025) EllapsedTime: 28.1 seconds RetCode: 0 Status: OK