Package: homosapienDEE2CellScore Version: 1.7.0 Maintainer: Justin Marsh MaintainerEmail: j.marsh at auckland.ac.nz git_url: https://git.bioconductor.org/packages/homosapienDEE2CellScore git_branch: devel git_last_commit: a20dd32 git_last_commit_date: 2025-10-29 10:06:31 -0500 (Wed, 29 Oct 2025)