Package: hgu133plus2CellScore Version: 1.31.0 Command: /home/biocbuild/bbs-3.23-bioc/R/bin/R CMD check --install=check:hgu133plus2CellScore.install-out.txt --library=/home/biocbuild/bbs-3.23-bioc/R/site-library --timings hgu133plus2CellScore_1.31.0.tar.gz StartedAt: 2025-11-06 12:26:33 -0500 (Thu, 06 Nov 2025) EndedAt: 2025-11-06 12:27:11 -0500 (Thu, 06 Nov 2025) EllapsedTime: 37.6 seconds RetCode: 0 Status: WARNINGS CheckDir: hgu133plus2CellScore.Rcheck Warnings: 1