Package: healthyFlowData Version: 1.49.0 Maintainer: Ariful Azad MaintainerEmail: aazad at purdue.edu git_url: https://git.bioconductor.org/packages/healthyFlowData git_branch: devel git_last_commit: c6fcc5d git_last_commit_date: 2025-10-29 09:54:34 -0500 (Wed, 29 Oct 2025)