Package: hapmap500knsp Version: 1.53.0 Command: /home/biocbuild/bbs-3.23-bioc/R/bin/R CMD check --install=check:hapmap500knsp.install-out.txt --library=/home/biocbuild/bbs-3.23-bioc/R/site-library --timings hapmap500knsp_1.53.0.tar.gz StartedAt: 2025-11-11 12:25:00 -0500 (Tue, 11 Nov 2025) EndedAt: 2025-11-11 12:25:24 -0500 (Tue, 11 Nov 2025) EllapsedTime: 23.9 seconds RetCode: 0 Status: OK CheckDir: hapmap500knsp.Rcheck Warnings: 0