Package: grndata Version: 1.43.0 Command: /home/biocbuild/bbs-3.23-bioc/R/bin/R CMD INSTALL grndata StartedAt: 2025-11-06 10:55:37 -0500 (Thu, 06 Nov 2025) EndedAt: 2025-11-06 10:55:46 -0500 (Thu, 06 Nov 2025) EllapsedTime: 9.3 seconds RetCode: 0 Status: OK