Package: grndata Version: 1.43.0 Maintainer: Pau Bellot MaintainerEmail: pau.bellot at upc.edu git_url: https://git.bioconductor.org/packages/grndata git_branch: devel git_last_commit: b3d66cb git_last_commit_date: 2025-10-29 09:56:12 -0500 (Wed, 29 Oct 2025)