Package: gpaExample Version: 1.23.0 Command: /home/biocbuild/bbs-3.23-bioc/R/bin/R CMD check --install=check:gpaExample.install-out.txt --library=/home/biocbuild/bbs-3.23-bioc/R/site-library --timings gpaExample_1.23.0.tar.gz StartedAt: 2025-11-06 12:23:04 -0500 (Thu, 06 Nov 2025) EndedAt: 2025-11-06 12:23:21 -0500 (Thu, 06 Nov 2025) EllapsedTime: 16.3 seconds RetCode: 0 Status: OK CheckDir: gpaExample.Rcheck Warnings: 0