Package: golubEsets Version: 1.53.0 Command: /home/biocbuild/bbs-3.23-bioc/R/bin/R CMD INSTALL golubEsets StartedAt: 2025-11-20 10:56:09 -0500 (Thu, 20 Nov 2025) EndedAt: 2025-11-20 10:56:13 -0500 (Thu, 20 Nov 2025) EllapsedTime: 3.5 seconds RetCode: 0 Status: OK