Package: gaschYHS Version: 1.49.0 Maintainer: Vince Carey MaintainerEmail: stvjc at channing.harvard.edu git_url: https://git.bioconductor.org/packages/gaschYHS git_branch: devel git_last_commit: 8eb7191 git_last_commit_date: 2025-10-29 09:30:08 -0500 (Wed, 29 Oct 2025)