Package: gageData Version: 2.49.0 Maintainer: Weijun Luo MaintainerEmail: luo_weijun at yahoo.com git_url: https://git.bioconductor.org/packages/gageData git_branch: devel git_last_commit: ccb2858 git_last_commit_date: 2025-10-29 09:32:00 -0500 (Wed, 29 Oct 2025)