Package: furrowSeg Version: 1.39.0 Command: /home/biocbuild/bbs-3.23-bioc/R/bin/R CMD build --keep-empty-dirs --no-resave-data furrowSeg StartedAt: 2025-11-06 11:19:03 -0500 (Thu, 06 Nov 2025) EndedAt: 2025-11-06 11:24:05 -0500 (Thu, 06 Nov 2025) EllapsedTime: 302.0 seconds RetCode: 0 Status: OK PackageFile: furrowSeg_1.39.0.tar.gz PackageFileSize: 349.3 MiB