Package: furrowSeg Version: 1.39.0 Maintainer: Joseph Barry MaintainerEmail: joseph.barry at embl.de git_url: https://git.bioconductor.org/packages/furrowSeg git_branch: devel git_last_commit: 89d1da0 git_last_commit_date: 2025-10-29 09:57:18 -0500 (Wed, 29 Oct 2025)