Package: fission Version: 1.31.0 Maintainer: Michael Love MaintainerEmail: michaelisaiahlove at gmail.com git_url: https://git.bioconductor.org/packages/fission git_branch: devel git_last_commit: 475d7c5 git_last_commit_date: 2025-10-29 09:55:24 -0500 (Wed, 29 Oct 2025)