Package: fibroEset Version: 1.53.0 Maintainer: Sylvia Merk MaintainerEmail: merk at ibe.med.uni-muenchen.de git_url: https://git.bioconductor.org/packages/fibroEset git_branch: devel git_last_commit: 03efe2f git_last_commit_date: 2025-10-29 09:30:06 -0500 (Wed, 29 Oct 2025)