Package: fabiaData Version: 1.49.0 Maintainer: Sepp Hochreiter MaintainerEmail: hochreit at bioinf.jku.at git_url: https://git.bioconductor.org/packages/fabiaData git_branch: devel git_last_commit: 24c7ef6 git_last_commit_date: 2025-10-29 09:33:33 -0500 (Wed, 29 Oct 2025)