Package: faahKO Version: 1.51.0 Command: /home/biocbuild/bbs-3.23-bioc/R/bin/R CMD INSTALL faahKO StartedAt: 2025-11-18 11:03:04 -0500 (Tue, 18 Nov 2025) EndedAt: 2025-11-18 11:03:55 -0500 (Tue, 18 Nov 2025) EllapsedTime: 51.7 seconds RetCode: 0 Status: OK