Package: estrogen Version: 1.57.0 Command: /home/biocbuild/bbs-3.23-bioc/R/bin/R CMD INSTALL estrogen StartedAt: 2025-11-20 10:55:21 -0500 (Thu, 20 Nov 2025) EndedAt: 2025-11-20 10:55:22 -0500 (Thu, 20 Nov 2025) EllapsedTime: 1.9 seconds RetCode: 0 Status: OK