Package: estrogen Version: 1.57.0 Command: /home/biocbuild/bbs-3.23-bioc/R/bin/R CMD build --keep-empty-dirs --no-resave-data estrogen StartedAt: 2025-11-20 11:17:28 -0500 (Thu, 20 Nov 2025) EndedAt: 2025-11-20 11:18:44 -0500 (Thu, 20 Nov 2025) EllapsedTime: 75.8 seconds RetCode: 0 Status: OK PackageFile: estrogen_1.57.0.tar.gz PackageFileSize: 26.3 MiB