Package: emtdata Version: 1.19.0 Command: /home/biocbuild/bbs-3.23-bioc/R/bin/R CMD INSTALL emtdata StartedAt: 2025-11-06 10:58:48 -0500 (Thu, 06 Nov 2025) EndedAt: 2025-11-06 10:58:58 -0500 (Thu, 06 Nov 2025) EllapsedTime: 10.2 seconds RetCode: 0 Status: OK