Package: emtdata Version: 1.19.0 Command: /home/biocbuild/bbs-3.23-bioc/R/bin/R CMD build --keep-empty-dirs --no-resave-data emtdata StartedAt: 2025-11-06 11:16:12 -0500 (Thu, 06 Nov 2025) EndedAt: 2025-11-06 11:17:02 -0500 (Thu, 06 Nov 2025) EllapsedTime: 49.6 seconds RetCode: 0 Status: OK PackageFile: emtdata_1.19.0.tar.gz PackageFileSize: 216.9 KiB