Package: emtdata Version: 1.19.0 Maintainer: Malvika D. Kharbanda MaintainerEmail: kharbanda.m at wehi.edu.au git_url: https://git.bioconductor.org/packages/emtdata git_branch: devel git_last_commit: dd35ae5 git_last_commit_date: 2025-10-29 10:03:42 -0500 (Wed, 29 Oct 2025)