Package: ecoliLeucine Version: 1.51.0 Maintainer: Laurent Gautier MaintainerEmail: lgautier at gmail.com git_url: https://git.bioconductor.org/packages/ecoliLeucine git_branch: devel git_last_commit: 69fb3bc git_last_commit_date: 2025-10-29 09:23:29 -0500 (Wed, 29 Oct 2025)