Package: easierData Version: 1.17.0 Command: /home/biocbuild/bbs-3.23-bioc/R/bin/R CMD check --install=check:easierData.install-out.txt --library=/home/biocbuild/bbs-3.23-bioc/R/site-library --timings easierData_1.17.0.tar.gz StartedAt: 2025-11-13 12:19:00 -0500 (Thu, 13 Nov 2025) EndedAt: 2025-11-13 12:23:16 -0500 (Thu, 13 Nov 2025) EllapsedTime: 255.4 seconds RetCode: 0 Status: OK CheckDir: easierData.Rcheck Warnings: 0