Package: dyebiasexamples Version: 1.51.0 Maintainer: Philip Lijnzaad MaintainerEmail: plijnzaad at gmail.com git_url: https://git.bioconductor.org/packages/dyebiasexamples git_branch: devel git_last_commit: dd7d2fd git_last_commit_date: 2025-10-29 09:31:35 -0500 (Wed, 29 Oct 2025)