Package: dorothea Version: 1.23.0 Command: /home/biocbuild/bbs-3.23-bioc/R/bin/R CMD build --keep-empty-dirs --no-resave-data dorothea StartedAt: 2025-11-06 11:15:32 -0500 (Thu, 06 Nov 2025) EndedAt: 2025-11-06 11:17:53 -0500 (Thu, 06 Nov 2025) EllapsedTime: 140.6 seconds RetCode: 0 Status: OK PackageFile: dorothea_1.23.0.tar.gz PackageFileSize: 34.04 MiB