Package: dorothea Version: 1.23.0 Maintainer: Pau Badia-i-Mompel MaintainerEmail: pau.badia at uni-heidelberg.de git_url: https://git.bioconductor.org/packages/dorothea git_branch: devel git_last_commit: 87586e7 git_last_commit_date: 2025-10-29 10:02:23 -0500 (Wed, 29 Oct 2025)