Package: depmap Version: 1.25.0 Maintainer: Laurent Gatto MaintainerEmail: laurent.gatto at uclouvain.be git_url: https://git.bioconductor.org/packages/depmap git_branch: devel git_last_commit: a389e6e git_last_commit_date: 2025-10-29 10:01:43 -0500 (Wed, 29 Oct 2025)