Package: davidTiling Version: 1.51.0 Command: /home/biocbuild/bbs-3.23-bioc/R/bin/R CMD check --install=check:davidTiling.install-out.txt --library=/home/biocbuild/bbs-3.23-bioc/R/site-library --timings davidTiling_1.51.0.tar.gz StartedAt: 2025-11-06 12:10:38 -0500 (Thu, 06 Nov 2025) EndedAt: 2025-11-06 12:14:58 -0500 (Thu, 06 Nov 2025) EllapsedTime: 260.1 seconds RetCode: 0 Status: WARNINGS CheckDir: davidTiling.Rcheck Warnings: 1