Package: curatedTBData Version: 2.7.0 Maintainer: Xutao Wang MaintainerEmail: xutaow at bu.edu git_url: https://git.bioconductor.org/packages/curatedTBData git_branch: devel git_last_commit: acf1650 git_last_commit_date: 2025-10-29 10:04:22 -0500 (Wed, 29 Oct 2025)