Package: curatedPCaData Version: 1.7.0 Command: /home/biocbuild/bbs-3.23-bioc/R/bin/R CMD check --install=check:curatedPCaData.install-out.txt --library=/home/biocbuild/bbs-3.23-bioc/R/site-library --timings curatedPCaData_1.7.0.tar.gz StartedAt: 2025-11-11 12:10:15 -0500 (Tue, 11 Nov 2025) EndedAt: 2025-11-11 12:33:52 -0500 (Tue, 11 Nov 2025) EllapsedTime: 1417.0 seconds RetCode: 0 Status: OK CheckDir: curatedPCaData.Rcheck Warnings: 0