Package: curatedOvarianData Version: 1.49.0 Maintainer: Levi Waldron MaintainerEmail: lwaldron.research at gmail.com git_url: https://git.bioconductor.org/packages/curatedOvarianData git_branch: devel git_last_commit: 793fa91 git_last_commit_date: 2025-10-29 09:33:47 -0500 (Wed, 29 Oct 2025)