Package: curatedMetagenomicData Version: 3.19.0 Maintainer: Lucas schiffer MaintainerEmail: schiffer.lucas at gmail.com git_url: https://git.bioconductor.org/packages/curatedMetagenomicData git_branch: devel git_last_commit: 5cacdd9 git_last_commit_date: 2025-10-29 09:58:35 -0500 (Wed, 29 Oct 2025)