Package: curatedBreastData Version: 2.39.0 Maintainer: Katie Planey MaintainerEmail: katie.planey at gmail.com git_url: https://git.bioconductor.org/packages/curatedBreastData git_branch: devel git_last_commit: c9a8364 git_last_commit_date: 2025-10-29 09:56:15 -0500 (Wed, 29 Oct 2025)